BEGIN:VCALENDAR
VERSION:2.0
PRODID:-//TYPO3/NONSGML Calendar (calendar) extended V1.0//EN
METHOD:PUBLISH
BEGIN:VEVENT
UID:675
SUMMARY:Weiterbildung Ingenieurholzbau
DTSTART:20260609T140000Z
DTEND:20260609T150000Z
LOCATION:Online
URL:https://www.akh.de/kalender/veranstaltung/weiterbildung-ingenieurholzbau-675
DESCRIPTION:   Holz- statt Massivbau: Berufsbegleitende universitäre Weiter­bildung für Architekt:innen und Bauingenieur:innen  \n Online-Informationsveranstaltung zum Start des berufsbegleitenden Lehrgangs Ingenieurholzbau im Herbst 2026 der Universität Kassel. Mit dem berufsbegleitenden Lehrgang Ingenieurholzbau können sich Fachkräfte aus den Bereichen Archi­tektur\, Bauingenieurswesen und Technik in diesem aufstrebenden Bereich weiterbilden.  \n           Anmeldung   \n           Mehr  Informationen  \n   \n    
END:VEVENT
END:VCALENDAR
