BEGIN:VCALENDAR
VERSION:2.0
PRODID:-//TYPO3/NONSGML Calendar (calendar) extended V1.0//EN
METHOD:PUBLISH
BEGIN:VEVENT
UID:666
SUMMARY:Symposium Bildungsorte - Demokratische Stadtbausteine
DTSTART:20260520T080000Z
DTEND:20260520T160000Z
LOCATION:Willemerschule\, Willemerstraße 12\, 60594 Frankfurt am Main
URL:https://www.akh.de/kalender/veranstaltung/symposium-bildungsorte-demokratische-stadtbaustein-666
DESCRIPTION:  Als Bildungsorte im Quartier leisten Schulen einen wesentlichen Beitrag zum Entstehen von Gemeinschaft. Sie organisieren und prägen das Zusammenleben\, die Regeln und Rituale gemeinsam mit ihren Schulgemeinden und dienen so als demokratisches Übungsfeld.  Daraus ergeben sich neue Herausforderungen an die Planung und Nutzung von Gebäuden und Freiräumen. Wie Schulen und Kommunen dabei konkret vorgehen\, welche Erfahrungen sie machen und welche Perspektiven sich eröffnen\, ist Thema des Symposiums. \n Eine Veranstaltung des BDA Hessen im Rahmen der WDC2026 in Kooperation mit dem Dezernat XI Bildung\, Immobilien und Neues Bauen der Stadt Frank­furt am Main. \n Die stellvertretende Haupt­geschäfts­führerin der AKH Gertrudis Peters wird die Veranstaltung moderieren.  \n         Flyer  und Programm  \n Teilnahmegebühr \n 50\,00 € / Studierende 25\,00 €            Anmeldung      \n   \n   \n    
END:VEVENT
END:VCALENDAR
