BEGIN:VCALENDAR
VERSION:2.0
PRODID:-//TYPO3/NONSGML Calendar (calendar) extended V1.0//EN
METHOD:PUBLISH
BEGIN:VEVENT
UID:667
SUMMARY:SCHULBAU-Messe 2026 in Frankfurt/Main
DTSTART:20260415T080000Z
DTEND:20260416T140000Z
LOCATION:Cubus Medien Verlag GmbH\, Jahrhunderthalle\, Pfaffenwiese 301\, 65929 Frankfurt am Main
URL:https://www.akh.de/kalender/veranstaltung/schulbau-messe-2026-in-frankfurt-main-667
DESCRIPTION:  Der Cubus Medien Verlag veranstaltet turnusgemäß alle zwei Jahre die SCHULBAU-Messe in Frankfurt am Main. Das zweitägige Messeprogramm richtet sich an Planung und Bauwesen\, Pädagogik\, Politik\, u.v.a. \n  Die AKH ist Kooperationspartnerin und anerkennt die SCHULBAU-Messe als Fortbildungsveranstaltung. Je Messetag werden 4 Fortbildungpunkte vergeben\; insgesamt können für beide Messetage 8 Fortbildungspunkte anerkannt werden.  \n   \n  Programmschwerpunkte   \n  Messetag 1 / Mittwoch\, 15. April 2026:    	 Nachhaltigkeit\, Klimastrategien und Low-Tech im Schulbau  	 Pädagogik als Raumprogramm: Neue Lernformen und Bildungsmodelle  	 Modulares Bauen\, Bestandstransformation und internationale Perspektiven     Messetag 2 / Donnerstag\, 16. April 2026:    	 Transformation und Bestand: Schulen weiterdenken  	 Steuerung\, Prozesse und politische Rahmenbedingungen im Schulbau  	 Pädagogik\, Beteiligung und neue Lernräume    
END:VEVENT
END:VCALENDAR
