BEGIN:VCALENDAR
VERSION:2.0
PRODID:-//TYPO3/NONSGML Calendar (calendar) extended V1.0//EN
METHOD:PUBLISH
BEGIN:VEVENT
UID:684
SUMMARY:Lehrgang Architekt*in\, Planer*in in der Denkmalpflege
DTSTART:20270405T080000Z
DTEND:20270409T130000Z
LOCATION:Propstei Johannesberg gGmbH\, Propsteischloss 2\, 36041 Fulda
URL:https://www.akh.de/kalender/veranstaltung/lehrgang-architekt-in-planer-in-in-der-denkmalpfle-684
DESCRIPTION:  Reihe 25 / Wochenblock V: Instandsetzung von Bauten aus Holz\, Eisen\, Stahl\, Mischkonstruktionen\, Dachwerken und Brückenbauweisen:  Werk- und Detailplanung\, Ausschreibung \n Seminarreihe in Zusammenarbeit mit der Architekten- und Stadtplanerkammer Hessen und dem Landesamt für Denkmalpflege Hessen\, in 12 Wochenblöcken\, die über drei Jahre verteilt stattfinden (4 Wochenblöcke / Jahr). Der Architekt wird hierdurch auf seine zentrale und koordinierende Funktion bei allen Bauaufgaben von der Planung bis zur Bauleitung am Altbau und Kulturdenkmal vorbereitet. Die Theorieteile werden durch Übungen und Exkursionen ergänzt. \n Die Module können auch einzeln gebucht werden\, der Einstieg in den Lehrgang ist jederzeit möglich. \n AKH-Mitglieder erwerben durch die Teilnahme  Fortbildungspunkte . \n Themen       	 Fachwerkentwicklung in Spätmittelalter und Neuzeit  	 Historische Entwicklung der Dachkonstruktionen  	 Historische Dachdeckungen: Ziegel\, Schiefer\, Metall  	 Konstruktion und Sanierung von Flachdächern  	 Werkberichte zur Ertüchtigung von Dachwerken und zur Brückensanierung   	 Dachgeschossausbau: Denkmalpflege\, Baurecht\, Statik und Bauphysik  	 Übung: Dachausbau am Denkmal   	 Exkursion: Instandsetzung historischer Dachstühle   	 Brandschutz   	 Werkbericht: Erhaltung von historischen Eisen-\, Stahl- und Mischkonstruktionen    Teilnahmegebühr   	 € 780\,00 pro Person   	 AKH-Mitglieder erhalten 10 % Ermäßigung              Anmeldung   \n    
END:VEVENT
END:VCALENDAR
