BEGIN:VCALENDAR
VERSION:2.0
PRODID:-//TYPO3/NONSGML Calendar (calendar) extended V1.0//EN
METHOD:PUBLISH
BEGIN:VEVENT
UID:683
SUMMARY:Lehrgang Architekt*in\, Planer*in in der Denkmalpflege
DTSTART:20270215T090000Z
DTEND:20270219T140000Z
LOCATION:Propstei Johannesberg gGmbH\, Propsteischloss 2\, 36041 Fulda
URL:https://www.akh.de/kalender/veranstaltung/lehrgang-architekt-in-planer-in-in-der-denkmalpfle-683
DESCRIPTION:  Reihe 26 / Wochenblock V: Planung: Ansprüche des Denkmals und des Projektes \n Seminarreihe in Zusammenarbeit mit der Architekten- und Stadtplanerkammer Hessen und dem Landesamt für Denkmalpflege Hessen\, in 12 Wochenblöcken\, die über drei Jahre verteilt stattfinden (4 Wochenblöcke / Jahr). Der Architekt wird hierdurch auf seine zentrale und koordinierende Funktion bei allen Bauaufgaben von der Planung bis zur Bauleitung am Altbau und Kulturdenkmal vorbereitet. Die Theorieteile werden durch Übungen und Exkursionen ergänzt. \n Die Module können auch einzeln gebucht werden\, der Einstieg in den Lehrgang ist jederzeit möglich. \n AKH-Mitglieder erwerben durch die Teilnahme  Fortbildungspunkte . \n Themen       	 Denkmalschutzrecht  	 Förderung von Denkmalprojekten aus unterschiedlichen Programmen  	 Steuerliche Begünstigung der Erhaltung von Kulturdenkmälern   	 Zusammenwirken städtebaulicher\, siedlungsgeschichtlicher und baugeschichtlicher Faktoren  	 Planungsrecht und Umsetzung denkmalpflegerischer Ziele  	 Siedlungs- und Baustrukturen des 20. Jahrhunderts  	 Exkursion in die ländliche Umgebung  	 Stadtentwicklung und Denkmalschutz    Teilnahmegebühr   	 € 780\,00 pro Person   	 AKH-Mitglieder erhalten 10 % Ermäßigung              Anmeldung   \n    
END:VEVENT
END:VCALENDAR
