BEGIN:VCALENDAR
VERSION:2.0
PRODID:-//TYPO3/NONSGML Calendar (calendar) extended V1.0//EN
METHOD:PUBLISH
BEGIN:VEVENT
UID:677
SUMMARY:Lehrgang Architekt*in\, Planer*in in der Denkmalpflege
DTSTART:20261116T090000Z
DTEND:20261120T140000Z
LOCATION:Propstei Johannesberg gGmbH\, Propsteischloss 2\, 36041 Fulda
URL:https://www.akh.de/kalender/veranstaltung/lehrgang-architekt-in-planer-in-in-der-denkmalpfle-677
DESCRIPTION:  Reihe 26 / Wochenblock IV: Vorbereitung denkmalpflegerischer Maßnahmen: Bauaufnahme - Voruntersuchungen \n Seminarreihe in Zusammenarbeit mit der Architekten- und Stadtplanerkammer Hessen und dem Landesamt für Denkmalpflege Hessen\, in 12 Wochenblöcken\, die über drei Jahre verteilt stattfinden (4 Wochenblöcke / Jahr). Der Architekt wird hierdurch auf seine zentrale und koordinierende Funktion bei allen Bauaufgaben von der Planung bis zur Bauleitung am Altbau und Kulturdenkmal vorbereitet. Die Theorieteile werden durch Übungen und Exkursionen ergänzt. \n Die Module können auch einzeln gebucht werden\, der Einstieg in den Lehrgang ist jederzeit möglich. \n AKH-Mitglieder erwerben durch die Teilnahme  Fortbildungspunkte . \n Themen   	 Zeitliche Einordnung historischer Bauten und ihr Werdegang   	 Historische Bauforschung: Fragestellung\, Befunde\, Dokumentation\, Zusammenfassung und analytische Betrachtung   	 Untersuchung und Beurteilung historischer Gründungen  	 Untersuchungen am Tragwerk und deren Dokumentation  	 Untersuchungen an Holzgefügen  	 Restauratorische Untersuchungen  	 Raumklimatische Voruntersuchungen   	 Gesundheitsschädliche Stoffe im Bauwerk  	 Bauphysikalische und bauchemische Voruntersuchungen  	 Floristische und vegetationskundliche Analyse als Instrument der Gartenarchäologie  	 Authentische Überlieferung: Exkursion  	 Dokumentation:  Darstellungsmethoden\, Systematik und Archivierung\, Untersuchungsergebnisse der Fachdisziplinen und ihre Integration in die Planung - Dokumentation als Gewerk des/der Architekten/in    Teilnahmegebühr   	 € 780\,00 pro Person   	 AKH-Mitglieder erhalten 10 % Ermäßigung.              Anmeldung    
END:VEVENT
END:VCALENDAR
