BEGIN:VCALENDAR
VERSION:2.0
PRODID:-//TYPO3/NONSGML Calendar (calendar) extended V1.0//EN
METHOD:PUBLISH
BEGIN:VEVENT
UID:676
SUMMARY:Lehrgang Architekt*in\, Planer*in in der Denkmalpflege
DTSTART:20260622T080000Z
DTEND:20260626T130000Z
LOCATION:Propstei Johannesberg gGmbH\, Propsteischloss 2\, 36041 Fulda
URL:https://www.akh.de/kalender/veranstaltung/lehrgang-architekt-in-planer-in-in-der-denkmalpfle-676
DESCRIPTION:  Reihe 26 / Wochenblock II: Einführung \n Seminarreihe in Zusammenarbeit mit der Architekten- und Stadtplanerkammer Hessen und dem Landesamt für Denkmalpflege Hessen\, in 12 Wochenblöcken\, die über drei Jahre verteilt stattfinden (4 Wochenblöcke / Jahr). Der Architekt wird hierdurch auf seine zentrale und koordinierende Funktion bei allen Bauaufgaben von der Planung bis zur Bauleitung am Altbau und Kulturdenkmal vorbereitet. Die Theorieteile werden durch Übungen und Exkursionen ergänzt. \n Die Module können auch einzeln gebucht werden\, der Einstieg in den Lehrgang ist jederzeit möglich. \n AKH-Mitglieder erwerben durch die Teilnahme  Fortbildungspunkte . \n Themen        	 Stadtbaugeschichte und Siedlungsformen   	 Erhaltung der historischen Kulturlandschaften\, Baudenkmäler als Repräsentanten von Baugattungen   	 Bauphysik: Materialfeuchte und Klima   	 Zwischen Haus und Landschaft: Exkursion Fulda zur historischen Siedlungstopografie   	 Erfassung von Kulturdenkmälern   	 Die Geschichte der Denkmalpflege und ihre Aufgaben   	 Rolle und Verantwortung des Architekten in der Denkmalpflege   	 Geschichte des Architekten- und Ingenieurberufes    Teilnahmegebühr   	 € 780\,00 pro Person   	 AKH-Mitglieder erhalten 10 % Ermäßigung              Anmeldung   \n    
END:VEVENT
END:VCALENDAR
