BEGIN:VCALENDAR
VERSION:2.0
PRODID:-//TYPO3/NONSGML Calendar (calendar) extended V1.0//EN
METHOD:PUBLISH
BEGIN:VEVENT
UID:670
SUMMARY:KfW Akademie - Förderung von Neubauvorhaben mit der KfW
DTSTART:20260603T130000Z
DTEND:20260603T143000Z
LOCATION:KfW in Kooperation mit der Bundesarchitekten- und der Bundesingenieurkammer\, online
URL:https://www.akh.de/kalender/veranstaltung/kfw-akademie-forderung-von-neubauvorhaben-mit-der-670
DESCRIPTION:   Online-Seminar von BAK\, BIngK und KfW „Förderung von Neubauvorhaben mit der KfW“ für Architekten und Ingenieure  \n Die KfW bietet umfangreiche Fördermöglichkeiten im Bereich des Neubaus und der Gebäudesanierung an. Exklusiv für Architekten und Ingenieurinnen führt sie in Kooperation mit der Bundesarchitekten- und der Bundesingenieurkammer Online-Seminare zu den verschiedenen Programmen durch. \n In diesem Web-Seminar werden die aktuellen Neubau-Programme der KfW vorgestellt. In der Kommunikation mit Ihren Bauherren sind hier besonders die Programme  Klimafreundlicher Neubau (KFN)  und  Klimafreundlicher Neubau-Niedrigpreisseg  ment (KNN)  interessant. Die Teilnehmenden haben die Möglichkeit\, den KfW-Experten ihre Fragen zu stellen und ihre konkreten Anwendungsfälle aus der Praxis zu schildern. \n Für die Weiterbildung werden 2 Punkte bei der dena vergeben. Den entsprechenden Code bekommen die Teilnehmenden im Anschluss mit dem Versand der Präsentation. Interessierte können sich ab dem 23.04.  anmelden. \n Teilnahmegebühr \n Die Teilnahme ist kostenfrei. \n           Anmeldung    
END:VEVENT
END:VCALENDAR
