BEGIN:VCALENDAR
VERSION:2.0
PRODID:-//TYPO3/NONSGML Calendar (calendar) extended V1.0//EN
METHOD:PUBLISH
BEGIN:VEVENT
UID:624
SUMMARY:Grün statt Grau – Chancen für Unternehmen und Gewerbegebiete in Zeiten des Klimawandels
DTSTART:20260618T170000Z
DTEND:20260618T190000Z
LOCATION:Kronberger Lichtspiele\, Friedrich-Ebert-Str. 1\, 61476 Kronberg
URL:https://www.akh.de/kalender/veranstaltung/grun-statt-grau-chancen-fur-unternehmen-und-gewerb-624
DESCRIPTION:  Die Diskussionsveranstaltung beleuchtet Chancen für Unternehmen und Gewerbegebiete in Zeiten des Klimawandels. Der Handlungsdruck durch den Klimawandel führt in vielen Städten zur Erstellung von Klimaanpassungskonzepten\, die bspw. Hitze in Gebäuden und in ihrer näheren Umgebung sowie Überschwemmungen nach Starkregenereignissen abmildern sollen. Neben den verdichteten Stadtzentren sind dabei auch Industrie -und Gewerbegebiete durch ihren hohen Versiegelungsgrad und meist geringer Begrünung im Fokus der Diskussion. \n AKH-Mitglieder erwerben durch die Teilnahme  2 Fortbildungspunkte . \n Referenten \n Prof. Jörg Dettmar\, Stadtökologe und Freiraumplaner\, TU Darmstadt\, Fachbereich Architektur. \n Hildegard Boisserée-Frühbuss\, Dipl.-Agrar-Ing. (WILA Bonn e.V.\, Leiterin „Netzwerk Gewerbegebiete im Wandel“) \n Sabine Steinmann\, Umweltmanagementbeauftragte des Unternehmens SPIR STAR AG \n Teilnahme \n Die Teilnahme ist kostenfrei. Eine Anmeldung ist nicht erforderlich. \n   \n   \n   \n    
END:VEVENT
END:VCALENDAR
