BEGIN:VCALENDAR
VERSION:2.0
PRODID:-//TYPO3/NONSGML Calendar (calendar) extended V1.0//EN
METHOD:PUBLISH
BEGIN:VEVENT
UID:671
SUMMARY:Aktuelle KfW-Förderung – Förderung von Sanierungsvorhaben mit der KfW
DTSTART:20260612T080000Z
DTEND:20260612T093000Z
LOCATION:KfW in Kooperation mit der Bundesarchitekten- und der Bundesingenieurkammer\, online
URL:https://www.akh.de/kalender/veranstaltung/aktuelle-kfw-forderung-forderung-von-sanierungsvor-671
DESCRIPTION:   Online-Seminar von BAK\, BIngK und KfW „Förderung von Sanierungsvorhaben mit der KfW“ für Architekten und Ingenieure  \n Die KfW bietet umfangreiche Fördermöglichkeiten im Bereich des Neubaus und der Gebäudesanierung an. Exklusiv für Architekten und Ingenieurinnen führt sie in Kooperation mit der Bundesarchitekten- und der Bundesingenieurkammer Online-Seminare zu den verschiedenen Programmen durch. \n In diesem Web-Seminar werden Ihnen die aktuellen Programme der KfW vorgestellt. Der Schwerpunkt liegt in diesem Web-Seminar auf den aktuellen Programmen der KfW im Sanierungsbereich. Vorgestellt werden die Förderprogramme zur Energieeffizienz. Zudem informieren wir Sie hier auch zum Thema Förderung von Wohnkomfort. Erfahren Sie in diesem Webinar alles Wichtige zu diesem neuen Programm und den sonstigen Förderangeboten der KfW im Gebäudebereich. Die Teilnehmenden haben die Möglichkeit\, den KfW-Experten ihre Fragen zu stellen und ihre konkreten Anwendungsfälle aus der Praxis zu schildern. \n Für die Weiterbildung werden 2 Punkte für die Weiterbildung bei der dena vergeben. Den entsprechenden Code bekommen die Teilnehmenden im Anschluss mit dem Versand der Präsentation. Interessierte können sich ab dem 23.04. anmelden. \n Teilnahmegebühr \n Die Teilnahme ist kostenfrei. \n           Anmeldung    
END:VEVENT
END:VCALENDAR
