BEGIN:VCALENDAR
VERSION:2.0
PRODID:-//TYPO3/NONSGML Calendar (calendar) extended V1.0//EN
METHOD:PUBLISH
BEGIN:VEVENT
UID:training-1753-0
DTSTART:20261113T083000Z
DTEND:20261113T120000Z
SUMMARY:Vertiefung Deutsch für Architekt*innen - Vom Entwurf bis zur Baustelle
ORGANIZER:- online -
URL:https://www.akh.de/fortbildung/details/226-w120-vertiefung-deutsch-fur-architekt-innen-vom-entwurf-1753
DESCRIPTION:    Erfolgreiche Kommunikation im Büroalltag steht im Zentrum dieses Intensiv-Workshops. Wer sich sprachlich weiterentwickelt\, kann im Projekt mehr Verantwortung übernehmen\, Aufgaben selbstständig lösen und fachlich weiterkommen.   \n   \n   Nach dem Überblick über alle Leistungsphasen im Basiskurs wird das Gelernte nun individuell vertieft. Die Teilnehmer gestalten ihr eigenes Projekt\, entwickeln es über vier Vormittage und wählen selbst Schwerpunkte\, wie z.B. Bieterverhandlung oder Bauherrengespräche.   \n   \n     Kursinhalte   \n   \n Was bietet der Workshop?     \n	   Die gemeinsame Erarbeitung online verfügbarer\, fachspezifischer Sprachbausteine   \n	   Interaktive und abwechslungsreiche Übungenn   \n	   Individuelle\, schriftliche und mündliche Korrektur und direktes Feedback   \n	   Eine offene Atmosphäre\, die den Austausch und das Selbstvertrauen fördert   \n    \n   Was üben die Teilnehmenden?    \n	   Das Schreiben adressatengerechter E-Mails und Protokolle auf Basis von Sprachbausteinen   \n	   Das Telefonieren mit echten Gesprächspartnern\, z. B. Fachplanenden oder Bauherr*innen   \n	   Das Leiten von Besprechungen und das Diskutieren architektonischer Konzepte   \n    \n     Niveaustufe   \n Deutschkenntnisse der Stufen B2/C1  \n Das Niveau ist mittels eines Einstufungstests oder eines entsprechenden Zertifikats nachzuweisen. Der Kurs ersetzt keinen allgemeinsprachlichen Deutschkurs. Der Fokus liegt auf der Fachsprache.    \n   \n   Die Teilnehmendenzahl ist auf 12 Personen begrenzt.   \n   \n   Aus organisatorischen Gründen bitten wir um  Anmeldung bis zum  \n 3. November 2026.    \n   \n   Informationen zum Teilnahmeverfahren:   \n   \n   Technische Voraussetzungen:  \n  Hardware:   Endgerät mit Internetzugang\, Kamera\, Mikrofon und ggfs. Headset sind zwingend erforderlich.  Diese sind notwendig\, um aktiv am Seminar teilnehmen zu können. Wie im Präsenzseminar werden die fachlichen Inhalte live in Form einer Präsentation durch die Referenten und Referentinnen vorgestellt. Sie können dadurch aktiv durch Wortmeldung oder über die Chatfunktion Ihre Fragen stellen und Erfahrungen einbringen.   \n   \n    Software:  Das Online-Seminar wird über die Plattform „Zoom“ durchgeführt. Die Erstellung eines ZOOM-Accounts ist für die Teilnahme an unseren Seminaren nicht zwingend notwendig.  \n Sie können sich allerdings die kostenlose Software „Zoom“ (erhältlich für Windows\, Mac und Linux-Betriebssysteme) im Vorfeld herunterladen und installieren. Diese bietet einige Erleichterungen bei häufiger Anwendung.  \n Ausführlichere Hinweise finden Sie unter:  Teilnahmeverfahren und technische Anforderungen    \n   \n  Sie erhalten rechtzeitig vor Beginn der Veranstaltung die notwendigen Zugangsdaten per E-Mail an Ihre bei der Anmeldung angegebene E-Mail-Adresse.  \n   \n  Informationen zu den geltenden Datenschutzrichtlinien von „Zoom“ finden Sie unter:  https://explore.zoom.us/de/privacy/   \n    
END:VEVENT
BEGIN:VEVENT
UID:training-1753-1
DTSTART:20261120T083000Z
DTEND:20261120T120000Z
SUMMARY:Vertiefung Deutsch für Architekt*innen - Vom Entwurf bis zur Baustelle
ORGANIZER:- online -
URL:https://www.akh.de/fortbildung/details/226-w120-vertiefung-deutsch-fur-architekt-innen-vom-entwurf-1753
DESCRIPTION:    Erfolgreiche Kommunikation im Büroalltag steht im Zentrum dieses Intensiv-Workshops. Wer sich sprachlich weiterentwickelt\, kann im Projekt mehr Verantwortung übernehmen\, Aufgaben selbstständig lösen und fachlich weiterkommen.   \n   \n   Nach dem Überblick über alle Leistungsphasen im Basiskurs wird das Gelernte nun individuell vertieft. Die Teilnehmer gestalten ihr eigenes Projekt\, entwickeln es über vier Vormittage und wählen selbst Schwerpunkte\, wie z.B. Bieterverhandlung oder Bauherrengespräche.   \n   \n     Kursinhalte   \n   \n Was bietet der Workshop?     \n	   Die gemeinsame Erarbeitung online verfügbarer\, fachspezifischer Sprachbausteine   \n	   Interaktive und abwechslungsreiche Übungenn   \n	   Individuelle\, schriftliche und mündliche Korrektur und direktes Feedback   \n	   Eine offene Atmosphäre\, die den Austausch und das Selbstvertrauen fördert   \n    \n   Was üben die Teilnehmenden?    \n	   Das Schreiben adressatengerechter E-Mails und Protokolle auf Basis von Sprachbausteinen   \n	   Das Telefonieren mit echten Gesprächspartnern\, z. B. Fachplanenden oder Bauherr*innen   \n	   Das Leiten von Besprechungen und das Diskutieren architektonischer Konzepte   \n    \n     Niveaustufe   \n Deutschkenntnisse der Stufen B2/C1  \n Das Niveau ist mittels eines Einstufungstests oder eines entsprechenden Zertifikats nachzuweisen. Der Kurs ersetzt keinen allgemeinsprachlichen Deutschkurs. Der Fokus liegt auf der Fachsprache.    \n   \n   Die Teilnehmendenzahl ist auf 12 Personen begrenzt.   \n   \n   Aus organisatorischen Gründen bitten wir um  Anmeldung bis zum  \n 3. November 2026.    \n   \n   Informationen zum Teilnahmeverfahren:   \n   \n   Technische Voraussetzungen:  \n  Hardware:   Endgerät mit Internetzugang\, Kamera\, Mikrofon und ggfs. Headset sind zwingend erforderlich.  Diese sind notwendig\, um aktiv am Seminar teilnehmen zu können. Wie im Präsenzseminar werden die fachlichen Inhalte live in Form einer Präsentation durch die Referenten und Referentinnen vorgestellt. Sie können dadurch aktiv durch Wortmeldung oder über die Chatfunktion Ihre Fragen stellen und Erfahrungen einbringen.   \n   \n    Software:  Das Online-Seminar wird über die Plattform „Zoom“ durchgeführt. Die Erstellung eines ZOOM-Accounts ist für die Teilnahme an unseren Seminaren nicht zwingend notwendig.  \n Sie können sich allerdings die kostenlose Software „Zoom“ (erhältlich für Windows\, Mac und Linux-Betriebssysteme) im Vorfeld herunterladen und installieren. Diese bietet einige Erleichterungen bei häufiger Anwendung.  \n Ausführlichere Hinweise finden Sie unter:  Teilnahmeverfahren und technische Anforderungen    \n   \n  Sie erhalten rechtzeitig vor Beginn der Veranstaltung die notwendigen Zugangsdaten per E-Mail an Ihre bei der Anmeldung angegebene E-Mail-Adresse.  \n   \n  Informationen zu den geltenden Datenschutzrichtlinien von „Zoom“ finden Sie unter:  https://explore.zoom.us/de/privacy/   \n    
END:VEVENT
BEGIN:VEVENT
UID:training-1753-2
DTSTART:20261127T083000Z
DTEND:20261127T120000Z
SUMMARY:Vertiefung Deutsch für Architekt*innen - Vom Entwurf bis zur Baustelle
ORGANIZER:- online -
URL:https://www.akh.de/fortbildung/details/226-w120-vertiefung-deutsch-fur-architekt-innen-vom-entwurf-1753
DESCRIPTION:    Erfolgreiche Kommunikation im Büroalltag steht im Zentrum dieses Intensiv-Workshops. Wer sich sprachlich weiterentwickelt\, kann im Projekt mehr Verantwortung übernehmen\, Aufgaben selbstständig lösen und fachlich weiterkommen.   \n   \n   Nach dem Überblick über alle Leistungsphasen im Basiskurs wird das Gelernte nun individuell vertieft. Die Teilnehmer gestalten ihr eigenes Projekt\, entwickeln es über vier Vormittage und wählen selbst Schwerpunkte\, wie z.B. Bieterverhandlung oder Bauherrengespräche.   \n   \n     Kursinhalte   \n   \n Was bietet der Workshop?     \n	   Die gemeinsame Erarbeitung online verfügbarer\, fachspezifischer Sprachbausteine   \n	   Interaktive und abwechslungsreiche Übungenn   \n	   Individuelle\, schriftliche und mündliche Korrektur und direktes Feedback   \n	   Eine offene Atmosphäre\, die den Austausch und das Selbstvertrauen fördert   \n    \n   Was üben die Teilnehmenden?    \n	   Das Schreiben adressatengerechter E-Mails und Protokolle auf Basis von Sprachbausteinen   \n	   Das Telefonieren mit echten Gesprächspartnern\, z. B. Fachplanenden oder Bauherr*innen   \n	   Das Leiten von Besprechungen und das Diskutieren architektonischer Konzepte   \n    \n     Niveaustufe   \n Deutschkenntnisse der Stufen B2/C1  \n Das Niveau ist mittels eines Einstufungstests oder eines entsprechenden Zertifikats nachzuweisen. Der Kurs ersetzt keinen allgemeinsprachlichen Deutschkurs. Der Fokus liegt auf der Fachsprache.    \n   \n   Die Teilnehmendenzahl ist auf 12 Personen begrenzt.   \n   \n   Aus organisatorischen Gründen bitten wir um  Anmeldung bis zum  \n 3. November 2026.    \n   \n   Informationen zum Teilnahmeverfahren:   \n   \n   Technische Voraussetzungen:  \n  Hardware:   Endgerät mit Internetzugang\, Kamera\, Mikrofon und ggfs. Headset sind zwingend erforderlich.  Diese sind notwendig\, um aktiv am Seminar teilnehmen zu können. Wie im Präsenzseminar werden die fachlichen Inhalte live in Form einer Präsentation durch die Referenten und Referentinnen vorgestellt. Sie können dadurch aktiv durch Wortmeldung oder über die Chatfunktion Ihre Fragen stellen und Erfahrungen einbringen.   \n   \n    Software:  Das Online-Seminar wird über die Plattform „Zoom“ durchgeführt. Die Erstellung eines ZOOM-Accounts ist für die Teilnahme an unseren Seminaren nicht zwingend notwendig.  \n Sie können sich allerdings die kostenlose Software „Zoom“ (erhältlich für Windows\, Mac und Linux-Betriebssysteme) im Vorfeld herunterladen und installieren. Diese bietet einige Erleichterungen bei häufiger Anwendung.  \n Ausführlichere Hinweise finden Sie unter:  Teilnahmeverfahren und technische Anforderungen    \n   \n  Sie erhalten rechtzeitig vor Beginn der Veranstaltung die notwendigen Zugangsdaten per E-Mail an Ihre bei der Anmeldung angegebene E-Mail-Adresse.  \n   \n  Informationen zu den geltenden Datenschutzrichtlinien von „Zoom“ finden Sie unter:  https://explore.zoom.us/de/privacy/   \n    
END:VEVENT
BEGIN:VEVENT
UID:training-1753-3
DTSTART:20261204T083000Z
DTEND:20261204T120000Z
SUMMARY:Vertiefung Deutsch für Architekt*innen - Vom Entwurf bis zur Baustelle
ORGANIZER:- online -
URL:https://www.akh.de/fortbildung/details/226-w120-vertiefung-deutsch-fur-architekt-innen-vom-entwurf-1753
DESCRIPTION:    Erfolgreiche Kommunikation im Büroalltag steht im Zentrum dieses Intensiv-Workshops. Wer sich sprachlich weiterentwickelt\, kann im Projekt mehr Verantwortung übernehmen\, Aufgaben selbstständig lösen und fachlich weiterkommen.   \n   \n   Nach dem Überblick über alle Leistungsphasen im Basiskurs wird das Gelernte nun individuell vertieft. Die Teilnehmer gestalten ihr eigenes Projekt\, entwickeln es über vier Vormittage und wählen selbst Schwerpunkte\, wie z.B. Bieterverhandlung oder Bauherrengespräche.   \n   \n     Kursinhalte   \n   \n Was bietet der Workshop?     \n	   Die gemeinsame Erarbeitung online verfügbarer\, fachspezifischer Sprachbausteine   \n	   Interaktive und abwechslungsreiche Übungenn   \n	   Individuelle\, schriftliche und mündliche Korrektur und direktes Feedback   \n	   Eine offene Atmosphäre\, die den Austausch und das Selbstvertrauen fördert   \n    \n   Was üben die Teilnehmenden?    \n	   Das Schreiben adressatengerechter E-Mails und Protokolle auf Basis von Sprachbausteinen   \n	   Das Telefonieren mit echten Gesprächspartnern\, z. B. Fachplanenden oder Bauherr*innen   \n	   Das Leiten von Besprechungen und das Diskutieren architektonischer Konzepte   \n    \n     Niveaustufe   \n Deutschkenntnisse der Stufen B2/C1  \n Das Niveau ist mittels eines Einstufungstests oder eines entsprechenden Zertifikats nachzuweisen. Der Kurs ersetzt keinen allgemeinsprachlichen Deutschkurs. Der Fokus liegt auf der Fachsprache.    \n   \n   Die Teilnehmendenzahl ist auf 12 Personen begrenzt.   \n   \n   Aus organisatorischen Gründen bitten wir um  Anmeldung bis zum  \n 3. November 2026.    \n   \n   Informationen zum Teilnahmeverfahren:   \n   \n   Technische Voraussetzungen:  \n  Hardware:   Endgerät mit Internetzugang\, Kamera\, Mikrofon und ggfs. Headset sind zwingend erforderlich.  Diese sind notwendig\, um aktiv am Seminar teilnehmen zu können. Wie im Präsenzseminar werden die fachlichen Inhalte live in Form einer Präsentation durch die Referenten und Referentinnen vorgestellt. Sie können dadurch aktiv durch Wortmeldung oder über die Chatfunktion Ihre Fragen stellen und Erfahrungen einbringen.   \n   \n    Software:  Das Online-Seminar wird über die Plattform „Zoom“ durchgeführt. Die Erstellung eines ZOOM-Accounts ist für die Teilnahme an unseren Seminaren nicht zwingend notwendig.  \n Sie können sich allerdings die kostenlose Software „Zoom“ (erhältlich für Windows\, Mac und Linux-Betriebssysteme) im Vorfeld herunterladen und installieren. Diese bietet einige Erleichterungen bei häufiger Anwendung.  \n Ausführlichere Hinweise finden Sie unter:  Teilnahmeverfahren und technische Anforderungen    \n   \n  Sie erhalten rechtzeitig vor Beginn der Veranstaltung die notwendigen Zugangsdaten per E-Mail an Ihre bei der Anmeldung angegebene E-Mail-Adresse.  \n   \n  Informationen zu den geltenden Datenschutzrichtlinien von „Zoom“ finden Sie unter:  https://explore.zoom.us/de/privacy/   \n    
END:VEVENT
END:VCALENDAR
