BEGIN:VCALENDAR
VERSION:2.0
PRODID:-//TYPO3/NONSGML Calendar (calendar) extended V1.0//EN
METHOD:PUBLISH
BEGIN:VEVENT
UID:training-1756-0
DTSTART:20260915T073000Z
DTEND:20260915T110000Z
SUMMARY:Deutsch für Architekt*innen - Vom Entwurf bis zur Baustelle
ORGANIZER:- online -
URL:https://www.akh.de/fortbildung/details/226-w119-deutsch-fur-architekt-innen-vom-entwurf-bis-zur-ba-1756
DESCRIPTION:    In diesem fachspezifischen Sprachkurs – Deutsch für Architekt*innen – lernen die Teilnehmenden\, in ihrem Berufsfeld zu kommunizieren. Konkrete Bauprojekte in Deutschland werden durch alle Leistungsphasen begleitet und multimedial aufbereitet. Zu jeder Lektion gehören Übungen\, aufbauend auf authentischen Beispielen\, Artikeln aus Fachzeitschriften und Videos. Die Teilnehmenden stehen mit ihren aktuellen Projekten im Zentrum des Seminars.   \n   \n   Je nach Bedarf werden individuelle Schwerpunkte gesetzt. Beispiele hierfür sind das Protokollieren von Planungsbesprechungen\, das Verhandeln mit ausführenden Firmen oder das Präsentieren von Materialkonzepten.   \n   \n   Die Teilnehmenden lernen:    \n	  Fachliteratur schnell zu erfassen und mündlich wiederzugeben  \n	   Fachvokabular und entsprechende Redewendungen gezielt anzuwenden   \n	   Sich an Entwurfsdiskussionen zu beteiligen und ihren Standpunkt zu vertreten   \n    \n   Die Teilnehmenden kennen:    \n	  Die Leistungsphasen der HOAI  \n	   Den Bauablauf sowie typische Konstellationen der Beteiligten   \n	   Die wesentlichen Planungsbehörden Deutschlands   \n    \n   Das mehrtägige Online-Seminar richtet sich an Architekt*innen mit Deutschkenntnissen der Stufen B2/C1 (keine Muttersprachler*innen).  Das Niveau ist mittels eines Einstufungstests oder eines entsprechenden Zertifikats nachzuweisen.  Der Kurs ersetzt keinen allgemeinsprachlichen Deutschkurs. Der Fokus liegt auf der Fachsprache.   \n   \n   Die Teilnehmendenzahl ist auf 12 Personen begrenzt.   \n   \n    Aus organisatorischen Gründen bitten wir um  Anmeldung bis zum   \n  5. September 2026.     \n   \n   In­for­ma­tio­nen zum Teilnahmeverfahren:   \n   \n   Technische Voraussetzungen:  \n  Hardware:   Endgerät mit Internetzugang\, Kamera\, Mikrofon und ggfs. Headset sind zwingend erforderlich.  Diese sind notwendig\, um aktiv am Seminar teil­nehmen zu können. Wie im Präsenzseminar werden die fachlichen Inhalte live in Form einer Präsentation durch die Referenten und Referentinnen vorgestellt. Sie können dadurch aktiv durch Wortmeldung oder über die Chatfunktion Ihre Fragen stellen und Erfahrungen einbringen.   \n   \n    Software:  Das Online-Seminar wird über die Plattform „Zoom“ durchgeführt. Die Erstellung eines ZOOM-Accounts ist für die Teilnahme an unseren Seminaren nicht zwingend notwendig.  \n Sie können sich allerdings die kostenlose Software „Zoom“ (erhältlich für Windows\, Mac und Linux-Betriebssysteme) im Vorfeld herunterladen und installieren. Diese bietet einige Erleichterungen bei häufiger Anwendung.  \n Ausführlichere Hinweise finden Sie unter:  Teilnahmeverfahren und technische Anforderungen    \n   \n  Sie erhalten rechtzeitig vor Beginn der Veranstaltung die notwendigen Zugangsdaten per E-Mail an Ihre bei der Anmeldung angegebene E-Mail-Adresse.  \n   \n  In­for­ma­tio­nen zu den geltenden Datenschutzrichtlinien von „Zoom“ finden Sie unter:    https://explore.zoom.us/de/privacy/   \n   \n   \n    
END:VEVENT
BEGIN:VEVENT
UID:training-1756-1
DTSTART:20260917T073000Z
DTEND:20260917T110000Z
SUMMARY:Deutsch für Architekt*innen - Vom Entwurf bis zur Baustelle
ORGANIZER:- online -
URL:https://www.akh.de/fortbildung/details/226-w119-deutsch-fur-architekt-innen-vom-entwurf-bis-zur-ba-1756
DESCRIPTION:    In diesem fachspezifischen Sprachkurs – Deutsch für Architekt*innen – lernen die Teilnehmenden\, in ihrem Berufsfeld zu kommunizieren. Konkrete Bauprojekte in Deutschland werden durch alle Leistungsphasen begleitet und multimedial aufbereitet. Zu jeder Lektion gehören Übungen\, aufbauend auf authentischen Beispielen\, Artikeln aus Fachzeitschriften und Videos. Die Teilnehmenden stehen mit ihren aktuellen Projekten im Zentrum des Seminars.   \n   \n   Je nach Bedarf werden individuelle Schwerpunkte gesetzt. Beispiele hierfür sind das Protokollieren von Planungsbesprechungen\, das Verhandeln mit ausführenden Firmen oder das Präsentieren von Materialkonzepten.   \n   \n   Die Teilnehmenden lernen:    \n	  Fachliteratur schnell zu erfassen und mündlich wiederzugeben  \n	   Fachvokabular und entsprechende Redewendungen gezielt anzuwenden   \n	   Sich an Entwurfsdiskussionen zu beteiligen und ihren Standpunkt zu vertreten   \n    \n   Die Teilnehmenden kennen:    \n	  Die Leistungsphasen der HOAI  \n	   Den Bauablauf sowie typische Konstellationen der Beteiligten   \n	   Die wesentlichen Planungsbehörden Deutschlands   \n    \n   Das mehrtägige Online-Seminar richtet sich an Architekt*innen mit Deutschkenntnissen der Stufen B2/C1 (keine Muttersprachler*innen).  Das Niveau ist mittels eines Einstufungstests oder eines entsprechenden Zertifikats nachzuweisen.  Der Kurs ersetzt keinen allgemeinsprachlichen Deutschkurs. Der Fokus liegt auf der Fachsprache.   \n   \n   Die Teilnehmendenzahl ist auf 12 Personen begrenzt.   \n   \n    Aus organisatorischen Gründen bitten wir um  Anmeldung bis zum   \n  5. September 2026.     \n   \n   In­for­ma­tio­nen zum Teilnahmeverfahren:   \n   \n   Technische Voraussetzungen:  \n  Hardware:   Endgerät mit Internetzugang\, Kamera\, Mikrofon und ggfs. Headset sind zwingend erforderlich.  Diese sind notwendig\, um aktiv am Seminar teil­nehmen zu können. Wie im Präsenzseminar werden die fachlichen Inhalte live in Form einer Präsentation durch die Referenten und Referentinnen vorgestellt. Sie können dadurch aktiv durch Wortmeldung oder über die Chatfunktion Ihre Fragen stellen und Erfahrungen einbringen.   \n   \n    Software:  Das Online-Seminar wird über die Plattform „Zoom“ durchgeführt. Die Erstellung eines ZOOM-Accounts ist für die Teilnahme an unseren Seminaren nicht zwingend notwendig.  \n Sie können sich allerdings die kostenlose Software „Zoom“ (erhältlich für Windows\, Mac und Linux-Betriebssysteme) im Vorfeld herunterladen und installieren. Diese bietet einige Erleichterungen bei häufiger Anwendung.  \n Ausführlichere Hinweise finden Sie unter:  Teilnahmeverfahren und technische Anforderungen    \n   \n  Sie erhalten rechtzeitig vor Beginn der Veranstaltung die notwendigen Zugangsdaten per E-Mail an Ihre bei der Anmeldung angegebene E-Mail-Adresse.  \n   \n  In­for­ma­tio­nen zu den geltenden Datenschutzrichtlinien von „Zoom“ finden Sie unter:    https://explore.zoom.us/de/privacy/   \n   \n   \n    
END:VEVENT
BEGIN:VEVENT
UID:training-1756-2
DTSTART:20260922T073000Z
DTEND:20260922T110000Z
SUMMARY:Deutsch für Architekt*innen - Vom Entwurf bis zur Baustelle
ORGANIZER:- online -
URL:https://www.akh.de/fortbildung/details/226-w119-deutsch-fur-architekt-innen-vom-entwurf-bis-zur-ba-1756
DESCRIPTION:    In diesem fachspezifischen Sprachkurs – Deutsch für Architekt*innen – lernen die Teilnehmenden\, in ihrem Berufsfeld zu kommunizieren. Konkrete Bauprojekte in Deutschland werden durch alle Leistungsphasen begleitet und multimedial aufbereitet. Zu jeder Lektion gehören Übungen\, aufbauend auf authentischen Beispielen\, Artikeln aus Fachzeitschriften und Videos. Die Teilnehmenden stehen mit ihren aktuellen Projekten im Zentrum des Seminars.   \n   \n   Je nach Bedarf werden individuelle Schwerpunkte gesetzt. Beispiele hierfür sind das Protokollieren von Planungsbesprechungen\, das Verhandeln mit ausführenden Firmen oder das Präsentieren von Materialkonzepten.   \n   \n   Die Teilnehmenden lernen:    \n	  Fachliteratur schnell zu erfassen und mündlich wiederzugeben  \n	   Fachvokabular und entsprechende Redewendungen gezielt anzuwenden   \n	   Sich an Entwurfsdiskussionen zu beteiligen und ihren Standpunkt zu vertreten   \n    \n   Die Teilnehmenden kennen:    \n	  Die Leistungsphasen der HOAI  \n	   Den Bauablauf sowie typische Konstellationen der Beteiligten   \n	   Die wesentlichen Planungsbehörden Deutschlands   \n    \n   Das mehrtägige Online-Seminar richtet sich an Architekt*innen mit Deutschkenntnissen der Stufen B2/C1 (keine Muttersprachler*innen).  Das Niveau ist mittels eines Einstufungstests oder eines entsprechenden Zertifikats nachzuweisen.  Der Kurs ersetzt keinen allgemeinsprachlichen Deutschkurs. Der Fokus liegt auf der Fachsprache.   \n   \n   Die Teilnehmendenzahl ist auf 12 Personen begrenzt.   \n   \n    Aus organisatorischen Gründen bitten wir um  Anmeldung bis zum   \n  5. September 2026.     \n   \n   In­for­ma­tio­nen zum Teilnahmeverfahren:   \n   \n   Technische Voraussetzungen:  \n  Hardware:   Endgerät mit Internetzugang\, Kamera\, Mikrofon und ggfs. Headset sind zwingend erforderlich.  Diese sind notwendig\, um aktiv am Seminar teil­nehmen zu können. Wie im Präsenzseminar werden die fachlichen Inhalte live in Form einer Präsentation durch die Referenten und Referentinnen vorgestellt. Sie können dadurch aktiv durch Wortmeldung oder über die Chatfunktion Ihre Fragen stellen und Erfahrungen einbringen.   \n   \n    Software:  Das Online-Seminar wird über die Plattform „Zoom“ durchgeführt. Die Erstellung eines ZOOM-Accounts ist für die Teilnahme an unseren Seminaren nicht zwingend notwendig.  \n Sie können sich allerdings die kostenlose Software „Zoom“ (erhältlich für Windows\, Mac und Linux-Betriebssysteme) im Vorfeld herunterladen und installieren. Diese bietet einige Erleichterungen bei häufiger Anwendung.  \n Ausführlichere Hinweise finden Sie unter:  Teilnahmeverfahren und technische Anforderungen    \n   \n  Sie erhalten rechtzeitig vor Beginn der Veranstaltung die notwendigen Zugangsdaten per E-Mail an Ihre bei der Anmeldung angegebene E-Mail-Adresse.  \n   \n  In­for­ma­tio­nen zu den geltenden Datenschutzrichtlinien von „Zoom“ finden Sie unter:    https://explore.zoom.us/de/privacy/   \n   \n   \n    
END:VEVENT
BEGIN:VEVENT
UID:training-1756-3
DTSTART:20260924T073000Z
DTEND:20260924T110000Z
SUMMARY:Deutsch für Architekt*innen - Vom Entwurf bis zur Baustelle
ORGANIZER:- online -
URL:https://www.akh.de/fortbildung/details/226-w119-deutsch-fur-architekt-innen-vom-entwurf-bis-zur-ba-1756
DESCRIPTION:    In diesem fachspezifischen Sprachkurs – Deutsch für Architekt*innen – lernen die Teilnehmenden\, in ihrem Berufsfeld zu kommunizieren. Konkrete Bauprojekte in Deutschland werden durch alle Leistungsphasen begleitet und multimedial aufbereitet. Zu jeder Lektion gehören Übungen\, aufbauend auf authentischen Beispielen\, Artikeln aus Fachzeitschriften und Videos. Die Teilnehmenden stehen mit ihren aktuellen Projekten im Zentrum des Seminars.   \n   \n   Je nach Bedarf werden individuelle Schwerpunkte gesetzt. Beispiele hierfür sind das Protokollieren von Planungsbesprechungen\, das Verhandeln mit ausführenden Firmen oder das Präsentieren von Materialkonzepten.   \n   \n   Die Teilnehmenden lernen:    \n	  Fachliteratur schnell zu erfassen und mündlich wiederzugeben  \n	   Fachvokabular und entsprechende Redewendungen gezielt anzuwenden   \n	   Sich an Entwurfsdiskussionen zu beteiligen und ihren Standpunkt zu vertreten   \n    \n   Die Teilnehmenden kennen:    \n	  Die Leistungsphasen der HOAI  \n	   Den Bauablauf sowie typische Konstellationen der Beteiligten   \n	   Die wesentlichen Planungsbehörden Deutschlands   \n    \n   Das mehrtägige Online-Seminar richtet sich an Architekt*innen mit Deutschkenntnissen der Stufen B2/C1 (keine Muttersprachler*innen).  Das Niveau ist mittels eines Einstufungstests oder eines entsprechenden Zertifikats nachzuweisen.  Der Kurs ersetzt keinen allgemeinsprachlichen Deutschkurs. Der Fokus liegt auf der Fachsprache.   \n   \n   Die Teilnehmendenzahl ist auf 12 Personen begrenzt.   \n   \n    Aus organisatorischen Gründen bitten wir um  Anmeldung bis zum   \n  5. September 2026.     \n   \n   In­for­ma­tio­nen zum Teilnahmeverfahren:   \n   \n   Technische Voraussetzungen:  \n  Hardware:   Endgerät mit Internetzugang\, Kamera\, Mikrofon und ggfs. Headset sind zwingend erforderlich.  Diese sind notwendig\, um aktiv am Seminar teil­nehmen zu können. Wie im Präsenzseminar werden die fachlichen Inhalte live in Form einer Präsentation durch die Referenten und Referentinnen vorgestellt. Sie können dadurch aktiv durch Wortmeldung oder über die Chatfunktion Ihre Fragen stellen und Erfahrungen einbringen.   \n   \n    Software:  Das Online-Seminar wird über die Plattform „Zoom“ durchgeführt. Die Erstellung eines ZOOM-Accounts ist für die Teilnahme an unseren Seminaren nicht zwingend notwendig.  \n Sie können sich allerdings die kostenlose Software „Zoom“ (erhältlich für Windows\, Mac und Linux-Betriebssysteme) im Vorfeld herunterladen und installieren. Diese bietet einige Erleichterungen bei häufiger Anwendung.  \n Ausführlichere Hinweise finden Sie unter:  Teilnahmeverfahren und technische Anforderungen    \n   \n  Sie erhalten rechtzeitig vor Beginn der Veranstaltung die notwendigen Zugangsdaten per E-Mail an Ihre bei der Anmeldung angegebene E-Mail-Adresse.  \n   \n  In­for­ma­tio­nen zu den geltenden Datenschutzrichtlinien von „Zoom“ finden Sie unter:    https://explore.zoom.us/de/privacy/   \n   \n   \n    
END:VEVENT
BEGIN:VEVENT
UID:training-1756-4
DTSTART:20260929T073000Z
DTEND:20260929T110000Z
SUMMARY:Deutsch für Architekt*innen - Vom Entwurf bis zur Baustelle
ORGANIZER:- online -
URL:https://www.akh.de/fortbildung/details/226-w119-deutsch-fur-architekt-innen-vom-entwurf-bis-zur-ba-1756
DESCRIPTION:    In diesem fachspezifischen Sprachkurs – Deutsch für Architekt*innen – lernen die Teilnehmenden\, in ihrem Berufsfeld zu kommunizieren. Konkrete Bauprojekte in Deutschland werden durch alle Leistungsphasen begleitet und multimedial aufbereitet. Zu jeder Lektion gehören Übungen\, aufbauend auf authentischen Beispielen\, Artikeln aus Fachzeitschriften und Videos. Die Teilnehmenden stehen mit ihren aktuellen Projekten im Zentrum des Seminars.   \n   \n   Je nach Bedarf werden individuelle Schwerpunkte gesetzt. Beispiele hierfür sind das Protokollieren von Planungsbesprechungen\, das Verhandeln mit ausführenden Firmen oder das Präsentieren von Materialkonzepten.   \n   \n   Die Teilnehmenden lernen:    \n	  Fachliteratur schnell zu erfassen und mündlich wiederzugeben  \n	   Fachvokabular und entsprechende Redewendungen gezielt anzuwenden   \n	   Sich an Entwurfsdiskussionen zu beteiligen und ihren Standpunkt zu vertreten   \n    \n   Die Teilnehmenden kennen:    \n	  Die Leistungsphasen der HOAI  \n	   Den Bauablauf sowie typische Konstellationen der Beteiligten   \n	   Die wesentlichen Planungsbehörden Deutschlands   \n    \n   Das mehrtägige Online-Seminar richtet sich an Architekt*innen mit Deutschkenntnissen der Stufen B2/C1 (keine Muttersprachler*innen).  Das Niveau ist mittels eines Einstufungstests oder eines entsprechenden Zertifikats nachzuweisen.  Der Kurs ersetzt keinen allgemeinsprachlichen Deutschkurs. Der Fokus liegt auf der Fachsprache.   \n   \n   Die Teilnehmendenzahl ist auf 12 Personen begrenzt.   \n   \n    Aus organisatorischen Gründen bitten wir um  Anmeldung bis zum   \n  5. September 2026.     \n   \n   In­for­ma­tio­nen zum Teilnahmeverfahren:   \n   \n   Technische Voraussetzungen:  \n  Hardware:   Endgerät mit Internetzugang\, Kamera\, Mikrofon und ggfs. Headset sind zwingend erforderlich.  Diese sind notwendig\, um aktiv am Seminar teil­nehmen zu können. Wie im Präsenzseminar werden die fachlichen Inhalte live in Form einer Präsentation durch die Referenten und Referentinnen vorgestellt. Sie können dadurch aktiv durch Wortmeldung oder über die Chatfunktion Ihre Fragen stellen und Erfahrungen einbringen.   \n   \n    Software:  Das Online-Seminar wird über die Plattform „Zoom“ durchgeführt. Die Erstellung eines ZOOM-Accounts ist für die Teilnahme an unseren Seminaren nicht zwingend notwendig.  \n Sie können sich allerdings die kostenlose Software „Zoom“ (erhältlich für Windows\, Mac und Linux-Betriebssysteme) im Vorfeld herunterladen und installieren. Diese bietet einige Erleichterungen bei häufiger Anwendung.  \n Ausführlichere Hinweise finden Sie unter:  Teilnahmeverfahren und technische Anforderungen    \n   \n  Sie erhalten rechtzeitig vor Beginn der Veranstaltung die notwendigen Zugangsdaten per E-Mail an Ihre bei der Anmeldung angegebene E-Mail-Adresse.  \n   \n  In­for­ma­tio­nen zu den geltenden Datenschutzrichtlinien von „Zoom“ finden Sie unter:    https://explore.zoom.us/de/privacy/   \n   \n   \n    
END:VEVENT
BEGIN:VEVENT
UID:training-1756-5
DTSTART:20261001T073000Z
DTEND:20261001T110000Z
SUMMARY:Deutsch für Architekt*innen - Vom Entwurf bis zur Baustelle
ORGANIZER:- online -
URL:https://www.akh.de/fortbildung/details/226-w119-deutsch-fur-architekt-innen-vom-entwurf-bis-zur-ba-1756
DESCRIPTION:    In diesem fachspezifischen Sprachkurs – Deutsch für Architekt*innen – lernen die Teilnehmenden\, in ihrem Berufsfeld zu kommunizieren. Konkrete Bauprojekte in Deutschland werden durch alle Leistungsphasen begleitet und multimedial aufbereitet. Zu jeder Lektion gehören Übungen\, aufbauend auf authentischen Beispielen\, Artikeln aus Fachzeitschriften und Videos. Die Teilnehmenden stehen mit ihren aktuellen Projekten im Zentrum des Seminars.   \n   \n   Je nach Bedarf werden individuelle Schwerpunkte gesetzt. Beispiele hierfür sind das Protokollieren von Planungsbesprechungen\, das Verhandeln mit ausführenden Firmen oder das Präsentieren von Materialkonzepten.   \n   \n   Die Teilnehmenden lernen:    \n	  Fachliteratur schnell zu erfassen und mündlich wiederzugeben  \n	   Fachvokabular und entsprechende Redewendungen gezielt anzuwenden   \n	   Sich an Entwurfsdiskussionen zu beteiligen und ihren Standpunkt zu vertreten   \n    \n   Die Teilnehmenden kennen:    \n	  Die Leistungsphasen der HOAI  \n	   Den Bauablauf sowie typische Konstellationen der Beteiligten   \n	   Die wesentlichen Planungsbehörden Deutschlands   \n    \n   Das mehrtägige Online-Seminar richtet sich an Architekt*innen mit Deutschkenntnissen der Stufen B2/C1 (keine Muttersprachler*innen).  Das Niveau ist mittels eines Einstufungstests oder eines entsprechenden Zertifikats nachzuweisen.  Der Kurs ersetzt keinen allgemeinsprachlichen Deutschkurs. Der Fokus liegt auf der Fachsprache.   \n   \n   Die Teilnehmendenzahl ist auf 12 Personen begrenzt.   \n   \n    Aus organisatorischen Gründen bitten wir um  Anmeldung bis zum   \n  5. September 2026.     \n   \n   In­for­ma­tio­nen zum Teilnahmeverfahren:   \n   \n   Technische Voraussetzungen:  \n  Hardware:   Endgerät mit Internetzugang\, Kamera\, Mikrofon und ggfs. Headset sind zwingend erforderlich.  Diese sind notwendig\, um aktiv am Seminar teil­nehmen zu können. Wie im Präsenzseminar werden die fachlichen Inhalte live in Form einer Präsentation durch die Referenten und Referentinnen vorgestellt. Sie können dadurch aktiv durch Wortmeldung oder über die Chatfunktion Ihre Fragen stellen und Erfahrungen einbringen.   \n   \n    Software:  Das Online-Seminar wird über die Plattform „Zoom“ durchgeführt. Die Erstellung eines ZOOM-Accounts ist für die Teilnahme an unseren Seminaren nicht zwingend notwendig.  \n Sie können sich allerdings die kostenlose Software „Zoom“ (erhältlich für Windows\, Mac und Linux-Betriebssysteme) im Vorfeld herunterladen und installieren. Diese bietet einige Erleichterungen bei häufiger Anwendung.  \n Ausführlichere Hinweise finden Sie unter:  Teilnahmeverfahren und technische Anforderungen    \n   \n  Sie erhalten rechtzeitig vor Beginn der Veranstaltung die notwendigen Zugangsdaten per E-Mail an Ihre bei der Anmeldung angegebene E-Mail-Adresse.  \n   \n  In­for­ma­tio­nen zu den geltenden Datenschutzrichtlinien von „Zoom“ finden Sie unter:    https://explore.zoom.us/de/privacy/   \n   \n   \n    
END:VEVENT
BEGIN:VEVENT
UID:training-1756-6
DTSTART:20261006T073000Z
DTEND:20261006T110000Z
SUMMARY:Deutsch für Architekt*innen - Vom Entwurf bis zur Baustelle
ORGANIZER:- online -
URL:https://www.akh.de/fortbildung/details/226-w119-deutsch-fur-architekt-innen-vom-entwurf-bis-zur-ba-1756
DESCRIPTION:    In diesem fachspezifischen Sprachkurs – Deutsch für Architekt*innen – lernen die Teilnehmenden\, in ihrem Berufsfeld zu kommunizieren. Konkrete Bauprojekte in Deutschland werden durch alle Leistungsphasen begleitet und multimedial aufbereitet. Zu jeder Lektion gehören Übungen\, aufbauend auf authentischen Beispielen\, Artikeln aus Fachzeitschriften und Videos. Die Teilnehmenden stehen mit ihren aktuellen Projekten im Zentrum des Seminars.   \n   \n   Je nach Bedarf werden individuelle Schwerpunkte gesetzt. Beispiele hierfür sind das Protokollieren von Planungsbesprechungen\, das Verhandeln mit ausführenden Firmen oder das Präsentieren von Materialkonzepten.   \n   \n   Die Teilnehmenden lernen:    \n	  Fachliteratur schnell zu erfassen und mündlich wiederzugeben  \n	   Fachvokabular und entsprechende Redewendungen gezielt anzuwenden   \n	   Sich an Entwurfsdiskussionen zu beteiligen und ihren Standpunkt zu vertreten   \n    \n   Die Teilnehmenden kennen:    \n	  Die Leistungsphasen der HOAI  \n	   Den Bauablauf sowie typische Konstellationen der Beteiligten   \n	   Die wesentlichen Planungsbehörden Deutschlands   \n    \n   Das mehrtägige Online-Seminar richtet sich an Architekt*innen mit Deutschkenntnissen der Stufen B2/C1 (keine Muttersprachler*innen).  Das Niveau ist mittels eines Einstufungstests oder eines entsprechenden Zertifikats nachzuweisen.  Der Kurs ersetzt keinen allgemeinsprachlichen Deutschkurs. Der Fokus liegt auf der Fachsprache.   \n   \n   Die Teilnehmendenzahl ist auf 12 Personen begrenzt.   \n   \n    Aus organisatorischen Gründen bitten wir um  Anmeldung bis zum   \n  5. September 2026.     \n   \n   In­for­ma­tio­nen zum Teilnahmeverfahren:   \n   \n   Technische Voraussetzungen:  \n  Hardware:   Endgerät mit Internetzugang\, Kamera\, Mikrofon und ggfs. Headset sind zwingend erforderlich.  Diese sind notwendig\, um aktiv am Seminar teil­nehmen zu können. Wie im Präsenzseminar werden die fachlichen Inhalte live in Form einer Präsentation durch die Referenten und Referentinnen vorgestellt. Sie können dadurch aktiv durch Wortmeldung oder über die Chatfunktion Ihre Fragen stellen und Erfahrungen einbringen.   \n   \n    Software:  Das Online-Seminar wird über die Plattform „Zoom“ durchgeführt. Die Erstellung eines ZOOM-Accounts ist für die Teilnahme an unseren Seminaren nicht zwingend notwendig.  \n Sie können sich allerdings die kostenlose Software „Zoom“ (erhältlich für Windows\, Mac und Linux-Betriebssysteme) im Vorfeld herunterladen und installieren. Diese bietet einige Erleichterungen bei häufiger Anwendung.  \n Ausführlichere Hinweise finden Sie unter:  Teilnahmeverfahren und technische Anforderungen    \n   \n  Sie erhalten rechtzeitig vor Beginn der Veranstaltung die notwendigen Zugangsdaten per E-Mail an Ihre bei der Anmeldung angegebene E-Mail-Adresse.  \n   \n  In­for­ma­tio­nen zu den geltenden Datenschutzrichtlinien von „Zoom“ finden Sie unter:    https://explore.zoom.us/de/privacy/   \n   \n   \n    
END:VEVENT
BEGIN:VEVENT
UID:training-1756-7
DTSTART:20261013T073000Z
DTEND:20261013T110000Z
SUMMARY:Deutsch für Architekt*innen - Vom Entwurf bis zur Baustelle
ORGANIZER:- online -
URL:https://www.akh.de/fortbildung/details/226-w119-deutsch-fur-architekt-innen-vom-entwurf-bis-zur-ba-1756
DESCRIPTION:    In diesem fachspezifischen Sprachkurs – Deutsch für Architekt*innen – lernen die Teilnehmenden\, in ihrem Berufsfeld zu kommunizieren. Konkrete Bauprojekte in Deutschland werden durch alle Leistungsphasen begleitet und multimedial aufbereitet. Zu jeder Lektion gehören Übungen\, aufbauend auf authentischen Beispielen\, Artikeln aus Fachzeitschriften und Videos. Die Teilnehmenden stehen mit ihren aktuellen Projekten im Zentrum des Seminars.   \n   \n   Je nach Bedarf werden individuelle Schwerpunkte gesetzt. Beispiele hierfür sind das Protokollieren von Planungsbesprechungen\, das Verhandeln mit ausführenden Firmen oder das Präsentieren von Materialkonzepten.   \n   \n   Die Teilnehmenden lernen:    \n	  Fachliteratur schnell zu erfassen und mündlich wiederzugeben  \n	   Fachvokabular und entsprechende Redewendungen gezielt anzuwenden   \n	   Sich an Entwurfsdiskussionen zu beteiligen und ihren Standpunkt zu vertreten   \n    \n   Die Teilnehmenden kennen:    \n	  Die Leistungsphasen der HOAI  \n	   Den Bauablauf sowie typische Konstellationen der Beteiligten   \n	   Die wesentlichen Planungsbehörden Deutschlands   \n    \n   Das mehrtägige Online-Seminar richtet sich an Architekt*innen mit Deutschkenntnissen der Stufen B2/C1 (keine Muttersprachler*innen).  Das Niveau ist mittels eines Einstufungstests oder eines entsprechenden Zertifikats nachzuweisen.  Der Kurs ersetzt keinen allgemeinsprachlichen Deutschkurs. Der Fokus liegt auf der Fachsprache.   \n   \n   Die Teilnehmendenzahl ist auf 12 Personen begrenzt.   \n   \n    Aus organisatorischen Gründen bitten wir um  Anmeldung bis zum   \n  5. September 2026.     \n   \n   In­for­ma­tio­nen zum Teilnahmeverfahren:   \n   \n   Technische Voraussetzungen:  \n  Hardware:   Endgerät mit Internetzugang\, Kamera\, Mikrofon und ggfs. Headset sind zwingend erforderlich.  Diese sind notwendig\, um aktiv am Seminar teil­nehmen zu können. Wie im Präsenzseminar werden die fachlichen Inhalte live in Form einer Präsentation durch die Referenten und Referentinnen vorgestellt. Sie können dadurch aktiv durch Wortmeldung oder über die Chatfunktion Ihre Fragen stellen und Erfahrungen einbringen.   \n   \n    Software:  Das Online-Seminar wird über die Plattform „Zoom“ durchgeführt. Die Erstellung eines ZOOM-Accounts ist für die Teilnahme an unseren Seminaren nicht zwingend notwendig.  \n Sie können sich allerdings die kostenlose Software „Zoom“ (erhältlich für Windows\, Mac und Linux-Betriebssysteme) im Vorfeld herunterladen und installieren. Diese bietet einige Erleichterungen bei häufiger Anwendung.  \n Ausführlichere Hinweise finden Sie unter:  Teilnahmeverfahren und technische Anforderungen    \n   \n  Sie erhalten rechtzeitig vor Beginn der Veranstaltung die notwendigen Zugangsdaten per E-Mail an Ihre bei der Anmeldung angegebene E-Mail-Adresse.  \n   \n  In­for­ma­tio­nen zu den geltenden Datenschutzrichtlinien von „Zoom“ finden Sie unter:    https://explore.zoom.us/de/privacy/   \n   \n   \n    
END:VEVENT
END:VCALENDAR
