BEGIN:VCALENDAR
VERSION:2.0
PRODID:-//TYPO3/NONSGML Calendar (calendar) extended V1.0//EN
METHOD:PUBLISH
BEGIN:VEVENT
UID:training-1752-0
DTSTART:20260617T073000Z
DTEND:20260617T150000Z
SUMMARY:Digitale Tools: Kann KI Architektur?
ORGANIZER:- online -
URL:https://www.akh.de/fortbildung/details/126-w20-digitale-tools-kann-ki-architektur-1752
DESCRIPTION:    Kann künstliche Intelligenz Architektur? Diese Leitfrage steht im Mittelpunkt des ganztägigen Seminars\, das Architekt*innen und Planende an die aktuellen Entwicklungen der KI-Technologien heranführt. Die Teilnehmenden erhalten eine umfassende Übersicht über neue digitale Werkzeuge\, die heute bereits im Büroalltag eingesetzt werden können – und einen Ausblick auf das\, was sich noch in Entwicklung befindet.   \n   \n    Inhalte und Themen     \n	  Einführung und Überblick: Welche Rolle spielt KI heute in der Architekturplanung? Wo liegen die Chancen\, wo die Grenzen?  \n	   Texte generieren und analysieren: Einsatz von Chatbots (z. B. ChatGPT\, Claude\, Le Chat\, Perplexity) für Recherche\, Büroorganisation und Kommunikationsaufgaben.   \n	   Bilder generieren: Von Text-zu-Bild-Systemen wie Midjourney über Skizze-zu-Rendering-Tools bis hin zu Bildbearbeitung mit KI – Anwendungsfelder in Entwurf\, Visualisierung und Marketing.   \n	   Planung und Städtebau: Nutzung von Geodaten\, automatisierten Baumassenstudien und Grundriss-Generatoren\; Integration der Ergebnisse in BIM-Workflows.   \n	   Nachhaltigkeit: Simulation von Energie- und Verbrauchsdaten\, ESG-Reporting und Optimierung von Bauprojekten im Hinblick auf ökologische Kriterien.   \n	   KI in den HOAI-Leistungsphasen: Vom Wettbewerbsentwurf bis zur Bauleitung – wo KI heute unterstützen kann und wo menschliche Erfahrung unverzichtbar bleibt.   \n	   Methodische Integration im Büroalltag: Wie lässt sich KI in bestehende Arbeitsprozesse einbinden? Welche Rollenmodelle (KI-Champions\, Testgruppen\, „Early Adopters“) können den Einstieg erleichtern?   \n	   Rechtliche und ethische Fragen: Datenschutz\, Urheberrecht\, Persönlichkeitsrechte und die Vorgaben des EU AI Act.   \n    \n     Zielgruppe   \n Das Seminar richtet sich an Architekt*innen\, Stadtplaner*innen und Mitarbeitende in Planungsbüros\, die verstehen möchten\, wie KI-Werkzeuge die eigene Arbeit sinnvoll ergänzen\, Prozesse beschleunigen und neue kreative wie organisatorische Möglichkeiten eröffnen können.  \n    \n Die Teilnehmenden erhalten am Ende des Seminars nicht nur einen Überblick über den Stand der Technik\, sondern auch konkrete Impulse für die eigene Büroorganisation\, Projektarbeit und strategische Ausrichtung.    \n    \n   \n   Aus organisatorischen Gründen bitten wir um  Anmeldung bis zum  \n 8. Juni 2026.    \n   \n   Informationen zum Teilnahmeverfahren:   \n   \n   Technische Voraussetzungen:  \n  Hardware:   Endgerät mit Internetzugang\, Kamera\, Mikrofon und ggfs. Headset sind zwingend erforderlich.  Diese sind notwendig\, um aktiv am Seminar teilnehmen zu können. Wie im Präsenzseminar werden die fachlichen Inhalte live in Form einer Präsentation durch die Referenten und Referentinnen vorgestellt. Sie können dadurch aktiv durch Wortmeldung oder über die Chatfunktion Ihre Fragen stellen und Erfahrungen einbringen.   \n   \n    Software:  Das Online-Seminar wird über die Plattform „Zoom“ durchgeführt. Die Erstellung eines ZOOM-Accounts ist für die Teilnahme an unseren Seminaren nicht zwingend notwendig.  \n Sie können sich allerdings die kostenlose Software „Zoom“ (erhältlich für Windows\, Mac und Linux-Betriebssysteme) im Vorfeld herunterladen und installieren. Diese bietet einige Erleichterungen bei häufiger Anwendung.  \n Ausführlichere Hinweise finden Sie unter:  Teilnahmeverfahren und technische Anforderungen    \n   \n  Sie erhalten rechtzeitig vor Beginn der Veranstaltung die notwendigen Zugangsdaten per E-Mail an Ihre bei der Anmeldung angegebene E-Mail-Adresse.  \n   \n  Informationen zu den geltenden Datenschutzrichtlinien von „Zoom“ finden Sie unter:  https://explore.zoom.us/de/privacy/   \n    
END:VEVENT
END:VCALENDAR
