BEGIN:VCALENDAR
VERSION:2.0
PRODID:-//TYPO3/NONSGML Calendar (calendar) extended V1.0//EN
METHOD:PUBLISH
BEGIN:VEVENT
UID:training-1755-0
DTSTART:20260601T080000Z
DTEND:20260601T153000Z
SUMMARY:Nachhaltige Baustoffe: Benutzeroberflächen - Nachhaltige Materialien in der Raumgestaltung
LOCATION:Wiesbaden
ORGANIZER:Architekten- und Stadtplanerkammer Hessen
URL:https://www.akh.de/fortbildung/details/126-p9-nachhaltige-baustoffe-benutzeroberflachen-nachhalt-1755
DESCRIPTION:    Materialien spielen heute im Planen und Bauen eine entscheidende Rolle\, dem Innenraum als „dritter Haut“ kommt dabei eine besondere Bedeutung für den Menschen zu. Hier bieten immer neue Material-Entwicklungen unzählige Möglichkeiten:  \n Oberflächen mit Nano-Beschichtungen\, aber auch Materialien für Akustik oder Brandschutz erfüllen multiple Funktionen und lassen sich individuell gestalten. Das Thema Nachhaltigkeit gewinnt zunehmend an Bedeutung. Im Zusammenspiel von Materialien und Licht entstehen völlig neue Raumeindrücke. Material-Interpretationen punkten mit technischen Eigenschaften\, die das Original übertreffen. Dank neuer Druck- und Bearbeitungsmethoden können Oberflächen individuell und projektbezogen gefertigt werden.  \n Das Seminar gibt einen Überblick über neue und unbekannte Materialien für den Innenraum. In kompakter Form werden Produkte mit Originalmustern und Anwendungsbeispielen vorgestellt. Das Seminarskript enthält alle Informationen für die eigene Materialrecherche.   \n   \n   Inhalt:    \n	  Kriterien für die Materialwahl: \n\n	 \n		  Sinneseindrücke\, Erwartungen\, Assoziationen\, Alterung\, Identität  \n	 \n	 \n	  Materialbeispiele: \n	 \n		  Nano-Beschichtungen  \n		  Materialien für den Brandschutz  \n		  Akustikmaterialien  \n		  Materialien und Licht  \n		  Nachhaltige Produkte und Material-Upcycling  \n		  Produkte aus Holz  \n		  Neue Produkte aus bekannten Werkstoffen wie Metall oder Kunststoff  \n		  Fakes und Material-Interpretationen  \n		  Bearbeitungstechniken für individuelle Oberflächen  \n		  Beispiele für unkonventionellen Materialeinsatz  \n	 \n	 \n	  Materialwissen sammeln und ordnen: \n	 \n		  Recherche im Internet\, Fachmessen\, Fachzeitschriften\, Kartei  \n		  Linkliste  \n	 \n	 \n    \n    Zielgruppe:   \n Architekt*innen und Innenarchitekt*innen   \n   \n  Die Fortbildung wird für die Verlängerung der Eintragung in der Energieeffizienz-Expertenliste mit 8 Unterrichtseinheiten (Wohngebäude)\, 8 Unterrichtseinheiten (Nichtwohngebäude) und 8 Unterrichtseinheiten (Energieaudit DIN 16247 (BAFA)) angerechnet.   \n   \n   Aus organisatorischen Gründen bitten wir um  Anmeldung bis zum  \n 20. Mai 2026.    \n    
END:VEVENT
END:VCALENDAR
