BEGIN:VCALENDAR
VERSION:2.0
PRODID:-//TYPO3/NONSGML Calendar (calendar) extended V1.0//EN
METHOD:PUBLISH
BEGIN:VEVENT
UID:training-1750-0
DTSTART:20260513T080000Z
DTEND:20260513T153000Z
SUMMARY:Intensiv-Training: BIM für Projektleiter*innen
LOCATION:Wiesbaden
ORGANIZER:Architekten- und Stadtplanerkammer Hessen
URL:https://www.akh.de/fortbildung/details/126-m6-intensiv-training-bim-fur-projektleiter-innen-1750
DESCRIPTION:     Ein Interdisziplinäres BIM-Projekt stellt besondere Herausforderungen an alle Teilnehmer*innen\, insbesondere jedoch an Projektleiter*innen. Auch wenn diese oft nicht selbst modellieren oder koordinieren\, müssen sie doch dafür sorgen\, dass ihr Team sich gut in den BIM-Prozess einfügt und die erforderlichen Rahmenbedingungen und Ressourcen vorhanden sind. Dafür wird zumindest ein Grundverständnis für die zugrundeliegende Technik und die Schnittstellen benötigt. Besonders wichtig ist aber ein Verständnis für die spezifischen Prozesse und veränderten Abläufe\, um das eigene Projektmanagement optimal auf das BIM-Projekt auszurichten. Gelingt dies\, wird das BIM-Projekt von der Herausforderung zum Steuerungswerkzeug.  \n Dieses Tagesseminar vermittelt wichtige Grundlagen zum Grundverständnis der Technik und der Schnittstellen\, erklärt die Rolle und Verantwortlichkeiten der Projektleiter*in im BIM-Projekt und sowie grundlegende Prozesse. Die Teilnehmer*innen lernen\, Dokumente wie den BIM-Ablaufplan zu lesen und die Anforderungen für ihr Projektteam abzuleiten und umzusetzen. Unterstützend wird auf moderne Projektmanagementwerkzeuge eingegangen\, mit denen ein Team im Gesamtprozess optimal gesteuert werden.  \n Zum Abschluss des Kurses werden anhand eines Übungsprojektes der Koordinations- und Kommunikationsablauf im BIM-Modell praktisch geübt.  \n Für die Teilnahme an der praktischen Übung wird den Teilnehmenden ein eigener Laptop empfohlen\, auf dem das Programm BIMcollab Zoom als gültige Vollversion (30-tägige Testversion siehe  https://helpcenter.bimcollab.com/portal/de/kb/articles/einrichten-ihrer-bimcollab-zoom-testversion#Schritt_1_Die_ZOOM_Trial-Lizenz_aktivieren ) installiert ist.    \n   \n    Hinweis:  Für eine vertiefte Auseinandersetzung mit Building Information Modeling (BIM) bietet die Architektenkammer Rheinland-Pfalz ein umfassendes BIM-Qualifizierungsprogramm in vier Modulen an. Weitere Informationen und die Möglichkeit zur Anmeldung finden Sie unter:  BIM-Qualifizierungsprogramm der Architektenkammer Rheinland-Pfalz.    \n   \n   Zur besseren Wissensvermittlung ist die Anzahl der Teilnehmenden bei Intensiv-Trainings begrenzt. Wir empfehlen daher eine frühzeitige Anmeldung.   \n   \n   Aus organisatorischen Gründen bitten wir um  Anmeldung bis zum  \n 3. Mai 2026.    \n    
END:VEVENT
END:VCALENDAR
