BEGIN:VCALENDAR
VERSION:2.0
PRODID:-//TYPO3/NONSGML Calendar (calendar) extended V1.0//EN
METHOD:PUBLISH
BEGIN:VEVENT
UID:training-1754-0
DTSTART:20260518T120000Z
DTEND:20260518T153000Z
SUMMARY:Instrumente klimafreundlichen Planens und Bauens 
LOCATION:Wiesbaden
ORGANIZER:Architekten- und Stadtplanerkammer Hessen
URL:https://www.akh.de/fortbildung/details/126-k14-instrumente-klimafreundlichen-planens-und-bauens-1754
DESCRIPTION:     Ökobilanzierung leicht gemacht    \n   \n    Die Ökobilanzierung ist ein wichtiges Werkzeug für klimagerechtes und ressourcenschonendes Bauen. Sie stärkt den Berufsstand in seiner Beratungskompetenz und rückt nachhaltige Konstruktionsweisen in den Vordergrund.     \n   \n    In der Planung werden in den frühen Leistungsphasen\, also bereits im Vorentwurf und Entwurf\, die wesentlichen Weichen für die Konstruktions- und Bauweisen gestellt. Nur wenn die Lebenszyklusanalyse (LCA) planungsintegriert und phasengerecht angewendet wird\, kann sie steuernd wirken und Entscheidungen im Planungsprozess beeinflussen.     \n   \n    In diesem Seminar erhalten Sie eine praxisnahe Einführung in die Erstellung von Lebenszyklusanalysen (LCA) in frühen Planungsphasen\, orientiert an den Anforderungen des Qualitätssiegels Nachhaltiges Gebäude (QNG).     \n   \n    Dabei steht nicht nur die ökologische Bewertung im Fokus\, sondern auch die wirtschaftliche Betrachtung durch die Verknüpfung von Ökobilanzen und Baukosten.     \n   \n    Als zentrales Werkzeug kommt der BKI Konstruktionsatlas 2 in Kombination mit der Ökobilanz-Quick-Check-Excel zum Einsatz.    \n   \n    Die Schulung richtet sich speziell an Planer*innen\, die fundierte ökologische und wirtschaftliche Entscheidungen bereits in frühen Planungsphasen treffen möchten.    \n   \n     Seminarinhalte im Überblick:     \n   \n      • Was ist die EPBD und wie tangiert sie die Archi­tektur in Deutsch­land   \n   und ihr Bezug zum Gebäude­moder­nisie­rungs­ge­setz (GMG)?      \n   \n     • LCA-Grundlagen nach QNG     \n   \n      • Erstellung vollständiger Ökobilanzen   \n   nach QNG am Beispiel eines Mehrfamilienhauses      \n   \n      • Berechnung des Globalen Erwärmungspotenzials (GWP)   \n   und Integration in die Planung      \n   \n     • Einsatz von Konstruktionsatlas KA2 &amp; Quick-Check-Excel     \n   \n      • Einfache Berechnung der Kostengruppe 400   \n   und Schätzung des Nutzungsanteil      \n   \n    Bitte bringen Sie zum Seminar Folgendes mit:    \n   \n    1. Einen Laptop    \n   \n    2. Ein Programm zur Nutzung von Excel-Dateien    \n   \n    3. Vorzugsweise einen Zugang   \n    zum eLCA-Tool des Bundes­ministeriums (Kostenlos):   \n     https://www.bauteileditor.de/     \n   \n   \n   \n   Aus organisatorischen Gründen bitten wir um  Anmeldung bis zum  \n 11. Mai 2026.    \n    
END:VEVENT
END:VCALENDAR
