BEGIN:VCALENDAR
VERSION:2.0
PRODID:-//TYPO3/NONSGML Calendar (calendar) extended V1.0//EN
METHOD:PUBLISH
BEGIN:VEVENT
UID:training-1748-0
DTSTART:20260602T160000Z
DTEND:20260602T191500Z
SUMMARY:After-Work! Einbruchsicherung bei Neu- und Bestandsbauten
LOCATION:Wiesbaden
ORGANIZER:Architekten- und Stadtplanerkammer Hessen
URL:https://www.akh.de/fortbildung/details/126-k11-after-work-einbruchsicherung-bei-neu-und-bestandsb-1748
DESCRIPTION:     Der ideale Zeitpunkt\, Einbruchschutz in ein Gebäude zu integrieren\, ist die Phase des Neubaus oder der Sanierung. Dies gilt insbesondere für neue einbruchhemmende Fassadenelemente wie Fenster und Türen.  \n Mittels rechtzeitiger Einplanung und Berücksichtigung lassen sich so Sicherheitsmaßnahmen ohne großen finanziellen Mehraufwand umsetzen und unauffällig einbauen. Auf den ersten Blick sind diese Elemente dann kaum wahrzunehmen.     \n   \n   In der Schulung erfahren Sie\, wie Einbrecherinnen und Einbrecher vorgehen\, zu welchen Zeiten sie besonders aktiv sind und wie sich effektiv gegen ihre Methoden geschützt werden kann.    \n   \n   Zudem werden Möglichkeiten zur Unterstützung durch die polizeilichen Beratungsstellen sowie praxisnahe Lösungen für Neubau\, Sanierung und Nachrüstung – inklusive aktueller Normen – gezeigt.   \n   \n    Aus organisatorischen Gründen bitten wir um  Anmeldung bis zum  \n 26. Mai 2026.     \n    
END:VEVENT
END:VCALENDAR
